BEGIN:VCALENDAR
VERSION:2.0
PRODID:CAMINHADA / CORRIDA SOLIDÁRIA
X-WR-CALNAME:CAMINHADA / CORRIDA SOLIDÁRIA
X-WR-TIMEZONE:Europe/Lisbon
X-PUBLISHED-TTL:P1W
BEGIN:VTIMEZONE
TZID:Europe/Lisbon
X-LIC-LOCATION:Europe/Lisbon
END:VTIMEZONE
BEGIN:VEVENT
UID:69e63b02a1423
DTSTART;VALUE=DATE:20251130
SEQUENCE:0
TRANSP:OPAQUE
DTEND;VALUE=DATE:20251201
SUMMARY:CAMINHADA / CORRIDA SOLIDÁRIA
CLASS:PUBLIC
DESCRIPTION:CAMINHADA E CORRIDA SOLIDÁRIA&nbsp\;Em parceria com a Associa
 ção Vamos A Isso - AVAI\, unimo-nos para apoiar a Liga Portuguesa Contra
  o Cancro nesta iniciativa solidária.A caminhar ou a correr&nbsp\; — o 
 importante é estar presente e contribuir para esta causa que nos une a to
 dos.&nbsp\;Infelizmente\, o cancro é um flagelo que afeta cada vez mais p
 essoas\, famílias e amigos.&nbsp\; Mas juntos\, podemos transformar a dor
  em força\, e a esperança em movimento.&nbsp\;&nbsp\;Traga a família e 
 amigos e junte-se a nós neste movimento de esperança e solidariedade!A J
 F de Lama agradece!
X-MICROSOFT-CDO-ALLDAYEVENT:TRUE
DTSTAMP:20260420T144106Z
END:VEVENT
END:VCALENDAR